View In:
ArcGIS JavaScript
ArcGIS Online Map Viewer
ArcGIS Earth
Service Description: Imagery/TownOfGordonsville1878
Name: Imagery/TownOfGordonsville1878
Description:
Single Fused Map Cache: false
Extent:
XMin: -8704845.834931493
YMin: 4597501.672033511
XMax: -8700797.14268096
YMax: 4601077.779095193
Spatial Reference: 102100
(3857)
LatestVCSWkid(0)
Initial Extent:
XMin: -8704845.834931493
YMin: 4597501.672033511
XMax: -8700797.14268096
YMax: 4601077.779095193
Spatial Reference: 102100
(3857)
LatestVCSWkid(0)
Full Extent:
XMin: -8704845.834931493
YMin: 4597501.672033511
XMax: -8700797.14268096
YMax: 4601077.779095193
Spatial Reference: 102100
(3857)
LatestVCSWkid(0)
Pixel Size X: 0.30352292154831917
Pixel Size Y: 0.30352292154831684
Band Count: 4
Pixel Type: U8
RasterFunction Infos: {"rasterFunctionInfos": [{
"name": "None",
"description": "",
"help": ""
}]}
Mensuration Capabilities: Basic
Inspection Capabilities:
Has Histograms: true
Has Colormap: false
Has Multi Dimensions : false
Rendering Rule:
Min Scale: 0
Max Scale: 0
Copyright Text:
Service Data Type: esriImageServiceDataTypeGeneric
Min Values: 0, 0, 0, 0
Max Values: 255, 255, 245, 255
Mean Values: 32.02541718318515, 30.128029126071382, 28.039028882507324, 36.20325033139489
Standard Deviation Values: 79.9332576024903, 75.34838887673534, 70.1102225096892, 89.00086263822935
Object ID Field:
Fields:
None
Default Mosaic Method: Center
Allowed Mosaic Methods:
SortField:
SortValue: null
Mosaic Operator: First
Default Compression Quality: 75
Default Resampling Method: Bilinear
Max Record Count: null
Max Image Height: 4100
Max Image Width: 15000
Max Download Image Count: null
Max Mosaic Image Count: null
Allow Raster Function: true
Allow Copy: true
Allow Analysis: true
Allow Compute TiePoints: false
Supports Statistics: false
Supports Advanced Queries: false
Use StandardizedQueries: true
Raster Type Infos:
Name: Raster Dataset
Description: Supports all ArcGIS Raster Datasets
Help:
Has Raster Attribute Table: false
Edit Fields Info: null
Ownership Based AccessControl For Rasters: null
Child Resources:
Info
Histograms
Statistics
Key Properties
Legend
Raster Function Infos
Supported Operations:
Export Image
Identify
Measure
Compute Histograms
Compute Statistics Histograms
Get Samples
Compute Class Statistics
Query Boundary
Compute Pixel Location
Compute Angles
Validate
Project