{
 "currentVersion": 11.3,
 "serviceDescription": "Imagery/TownOfGordonsville1878",
 "name": "Imagery/TownOfGordonsville1878",
 "description": "",
 "extent": {
  "xmin": -8704845.834931493,
  "ymin": 4597501.672033511,
  "xmax": -8700797.14268096,
  "ymax": 4601077.779095193,
  "spatialReference": {
   "wkid": 102100,
   "latestWkid": 3857
  }
 },
 "initialExtent": {
  "xmin": -8704845.834931493,
  "ymin": 4597501.672033511,
  "xmax": -8700797.14268096,
  "ymax": 4601077.779095193,
  "spatialReference": {
   "wkid": 102100,
   "latestWkid": 3857
  }
 },
 "fullExtent": {
  "xmin": -8704845.834931493,
  "ymin": 4597501.672033511,
  "xmax": -8700797.14268096,
  "ymax": 4601077.779095193,
  "spatialReference": {
   "wkid": 102100,
   "latestWkid": 3857
  }
 },
 "sortableFields": "",
 "bandCount": 4,
 "pixelType": "U8",
 "minValues": [
  0,
  0,
  0,
  0
 ],
 "maxValues": [
  255,
  255,
  245,
  255
 ],
 "meanValues": [
  32.02541718318515,
  30.128029126071382,
  28.039028882507324,
  36.20325033139489
 ],
 "stdvValues": [
  79.9332576024903,
  75.34838887673534,
  70.1102225096892,
  89.00086263822935
 ],
 "hasMultidimensions": false,
 "pixelSizeX": 0.30352292154831917,
 "pixelSizeY": 0.30352292154831684,
 "meanPixelSize": 0.303522921548318,
 "datasetFormat": "SDR",
 "uncompressedSize": 628640392,
 "blockWidth": 128,
 "blockHeight": 128,
 "compressionType": "LZ77",
 "bandNames": [
  "Band_1",
  "Band_2",
  "Band_3",
  "Band_4"
 ],
 "allowCopy": true,
 "allowAnalysis": true,
 "itemAccess": false,
 "inspectionCapabilities": "",
 "minPixelSize": 0,
 "maxPixelSize": 0,
 "copyrightText": "",
 "serviceDataType": "esriImageServiceDataTypeGeneric",
 "serviceSourceType": "esriImageServiceSourceTypeDataset",
 "objectIdField": "",
 "fields": [],
 "capabilities": "Image,Metadata,Mensuration",
 "defaultMosaicMethod": "Center",
 "allowedMosaicMethods": "",
 "sortField": "",
 "sortValue": null,
 "sortAscending": true,
 "mosaicOperator": "First",
 "defaultCompressionQuality": 75,
 "defaultResamplingMethod": "Bilinear",
 "maxImageHeight": 4100,
 "maxImageWidth": 15000,
 "allowRasterFunction": true,
 "rasterFunctionInfos": [
  {
   "name": "None",
   "description": "",
   "help": ""
  }
 ],
 "rasterTypeInfos": [
  {
   "name": "Raster Dataset",
   "description": "Supports all ArcGIS Raster Datasets",
   "help": ""
  }
 ],
 "mensurationCapabilities": "Basic",
 "hasHistograms": true,
 "hasColormap": false,
 "hasRasterAttributeTable": false,
 "minScale": 0,
 "maxScale": 0,
 "exportTilesAllowed": false,
 "supportsStatistics": false,
 "supportsAdvancedQueries": false,
 "editFieldsInfo": null,
 "ownershipBasedAccessControlForRasters": null,
 "allowComputeTiePoints": false,
 "useStandardizedQueries": true,
 "advancedQueryCapabilities": {
  "useStandardizedQueries": true,
  "supportsStatistics": false,
  "supportsOrderBy": false,
  "supportsDistinct": false,
  "supportsPagination": false
 },
 "spatialReference": {
  "wkid": 102100,
  "latestWkid": 3857
 }
}
