View In:
ArcGIS JavaScript
ArcGIS Online Map Viewer
ArcGIS Earth
Service Description: Imagery/Orange1988
Name: Imagery/Orange1988
Description:
Single Fused Map Cache: false
Extent:
XMin: 1.1520565786080291E7
YMin: 6726481.8918508645
XMax: 1.1711487448410844E7
YMax: 6827026.603329101
Spatial Reference: 102746
(2283)
LatestVCSWkid(0)
Initial Extent:
XMin: 1.1520565786080291E7
YMin: 6726481.8918508645
XMax: 1.1711487448410844E7
YMax: 6827026.603329101
Spatial Reference: 102746
(2283)
LatestVCSWkid(0)
Full Extent:
XMin: 1.1520565786080291E7
YMin: 6726481.8918508645
XMax: 1.1711487448410844E7
YMax: 6827026.603329101
Spatial Reference: 102746
(2283)
LatestVCSWkid(0)
Pixel Size X: 3.4589137513008485
Pixel Size Y: 3.552314566076743
Band Count: 4
Pixel Type: U8
RasterFunction Infos: {"rasterFunctionInfos": [{
"name": "None",
"description": "",
"help": ""
}]}
Mensuration Capabilities: Basic
Inspection Capabilities:
Has Histograms: true
Has Colormap: false
Has Multi Dimensions : false
Rendering Rule:
Min Scale: 0
Max Scale: 0
Copyright Text:
Service Data Type: esriImageServiceDataTypeGeneric
Min Values: 0, 0, 0, 247
Max Values: 255, 255, 255, 255
Mean Values: 105.92116515848478, 105.92116515848478, 105.92116515848478, 254.99949091428192
Standard Deviation Values: 40.3468612109331, 40.3468612109331, 40.3468612109331, 0.022888686054690556
Object ID Field:
Fields:
None
Default Mosaic Method: Center
Allowed Mosaic Methods:
SortField:
SortValue: null
Mosaic Operator: First
Default Compression Quality: 75
Default Resampling Method: Bilinear
Max Record Count: null
Max Image Height: 4100
Max Image Width: 15000
Max Download Image Count: null
Max Mosaic Image Count: null
Allow Raster Function: true
Allow Copy: true
Allow Analysis: true
Allow Compute TiePoints: false
Supports Statistics: false
Supports Advanced Queries: false
Use StandardizedQueries: true
Raster Type Infos:
Name: Raster Dataset
Description: Supports all ArcGIS Raster Datasets
Help:
Has Raster Attribute Table: false
Edit Fields Info: null
Ownership Based AccessControl For Rasters: null
Child Resources:
Info
Histograms
Statistics
Key Properties
Legend
Raster Function Infos
Supported Operations:
Export Image
Identify
Measure
Compute Histograms
Compute Statistics Histograms
Get Samples
Compute Class Statistics
Query Boundary
Compute Pixel Location
Compute Angles
Validate
Project