{
 "currentVersion": 11.3,
 "serviceDescription": "Imagery/Orange1988",
 "name": "Imagery/Orange1988",
 "description": "",
 "extent": {
  "xmin": 1.1520565786080291E7,
  "ymin": 6726481.8918508645,
  "xmax": 1.1711487448410844E7,
  "ymax": 6827026.603329101,
  "spatialReference": {
   "wkid": 102746,
   "latestWkid": 2283
  }
 },
 "initialExtent": {
  "xmin": 1.1520565786080291E7,
  "ymin": 6726481.8918508645,
  "xmax": 1.1711487448410844E7,
  "ymax": 6827026.603329101,
  "spatialReference": {
   "wkid": 102746,
   "latestWkid": 2283
  }
 },
 "fullExtent": {
  "xmin": 1.1520565786080291E7,
  "ymin": 6726481.8918508645,
  "xmax": 1.1711487448410844E7,
  "ymax": 6827026.603329101,
  "spatialReference": {
   "wkid": 102746,
   "latestWkid": 2283
  }
 },
 "sortableFields": "",
 "bandCount": 4,
 "pixelType": "U8",
 "minValues": [
  0,
  0,
  0,
  247
 ],
 "maxValues": [
  255,
  255,
  255,
  255
 ],
 "meanValues": [
  105.92116515848478,
  105.92116515848478,
  105.92116515848478,
  254.99949091428192
 ],
 "stdvValues": [
  40.3468612109331,
  40.3468612109331,
  40.3468612109331,
  0.022888686054690556
 ],
 "hasMultidimensions": false,
 "pixelSizeX": 3.4589137513008485,
 "pixelSizeY": 3.552314566076743,
 "meanPixelSize": 1.0685133325950102,
 "datasetFormat": "SDR",
 "uncompressedSize": 6249183552,
 "blockWidth": 128,
 "blockHeight": 128,
 "compressionType": "LZ77",
 "bandNames": [
  "Band_1",
  "Band_2",
  "Band_3",
  "Band_4"
 ],
 "allowCopy": true,
 "allowAnalysis": true,
 "itemAccess": false,
 "inspectionCapabilities": "",
 "minPixelSize": 0,
 "maxPixelSize": 0,
 "copyrightText": "",
 "serviceDataType": "esriImageServiceDataTypeGeneric",
 "serviceSourceType": "esriImageServiceSourceTypeDataset",
 "objectIdField": "",
 "fields": [],
 "capabilities": "Image,Metadata,Mensuration",
 "defaultMosaicMethod": "Center",
 "allowedMosaicMethods": "",
 "sortField": "",
 "sortValue": null,
 "sortAscending": true,
 "mosaicOperator": "First",
 "defaultCompressionQuality": 75,
 "defaultResamplingMethod": "Bilinear",
 "maxImageHeight": 4100,
 "maxImageWidth": 15000,
 "allowRasterFunction": true,
 "rasterFunctionInfos": [
  {
   "name": "None",
   "description": "",
   "help": ""
  }
 ],
 "rasterTypeInfos": [
  {
   "name": "Raster Dataset",
   "description": "Supports all ArcGIS Raster Datasets",
   "help": ""
  }
 ],
 "mensurationCapabilities": "Basic",
 "hasHistograms": true,
 "hasColormap": false,
 "hasRasterAttributeTable": false,
 "minScale": 0,
 "maxScale": 0,
 "exportTilesAllowed": false,
 "supportsStatistics": false,
 "supportsAdvancedQueries": false,
 "editFieldsInfo": null,
 "ownershipBasedAccessControlForRasters": null,
 "allowComputeTiePoints": false,
 "useStandardizedQueries": true,
 "advancedQueryCapabilities": {
  "useStandardizedQueries": true,
  "supportsStatistics": false,
  "supportsOrderBy": false,
  "supportsDistinct": false,
  "supportsPagination": false
 },
 "spatialReference": {
  "wkid": 102746,
  "latestWkid": 2283
 }
}
