View In:
ArcGIS JavaScript
ArcGIS Online Map Viewer
ArcGIS Earth
Service Description: Imagery/SanbornFireMap1905
Name: Imagery/SanbornFireMap1905
Description:
Single Fused Map Cache: false
Extent:
XMin: -78.11589123799996
YMin: 38.24124584429527
XMax: -78.10757044182076
YMax: 38.24654171000007
Spatial Reference: 4326
(4326)
LatestVCSWkid(0)
Initial Extent:
XMin: -78.11589123799996
YMin: 38.24124584429527
XMax: -78.10757044182076
YMax: 38.24654171000007
Spatial Reference: 4326
(4326)
LatestVCSWkid(0)
Full Extent:
XMin: -78.11589123799996
YMin: 38.24124584429527
XMax: -78.10757044182076
YMax: 38.24654171000007
Spatial Reference: 4326
(4326)
LatestVCSWkid(0)
Pixel Size X: 5.593436528102688E-7
Pixel Size Y: 5.593436528097104E-7
Band Count: 3
Pixel Type: U8
RasterFunction Infos: {"rasterFunctionInfos": [{
"name": "None",
"description": "",
"help": ""
}]}
Mensuration Capabilities: Basic
Inspection Capabilities:
Has Histograms: true
Has Colormap: false
Has Multi Dimensions : false
Rendering Rule:
Min Scale: 0
Max Scale: 0
Copyright Text:
Service Data Type: esriImageServiceDataTypeRGB
Min Values: 0, 0, 0
Max Values: 253, 254, 252
Mean Values: 232.11947986631446, 230.09082979520812, 219.10123148744563
Standard Deviation Values: 24.11628990132006, 27.33060274725598, 30.307938775316263
Object ID Field:
Fields:
None
Default Mosaic Method: Center
Allowed Mosaic Methods:
SortField:
SortValue: null
Mosaic Operator: First
Default Compression Quality: 75
Default Resampling Method: Bilinear
Max Record Count: null
Max Image Height: 4100
Max Image Width: 15000
Max Download Image Count: null
Max Mosaic Image Count: null
Allow Raster Function: true
Allow Copy: true
Allow Analysis: true
Allow Compute TiePoints: false
Supports Statistics: false
Supports Advanced Queries: false
Use StandardizedQueries: true
Raster Type Infos:
Name: Raster Dataset
Description: Supports all ArcGIS Raster Datasets
Help:
Has Raster Attribute Table: false
Edit Fields Info: null
Ownership Based AccessControl For Rasters: null
Child Resources:
Info
Histograms
Statistics
Key Properties
Legend
Raster Function Infos
Supported Operations:
Export Image
Identify
Measure
Compute Histograms
Compute Statistics Histograms
Get Samples
Compute Class Statistics
Query Boundary
Compute Pixel Location
Compute Angles
Validate
Project