{
 "currentVersion": 11.3,
 "serviceDescription": "Imagery/SanbornFireMap1908",
 "name": "Imagery/SanbornFireMap1908",
 "description": "",
 "extent": {
  "xmin": 1.1571755902027255E7,
  "ymin": 6731532.094179829,
  "xmax": 1.1573923979984634E7,
  "ymax": 6734098.45192847,
  "spatialReference": {
   "wkid": 102746,
   "latestWkid": 2283
  }
 },
 "initialExtent": {
  "xmin": 1.1571755902027255E7,
  "ymin": 6731532.094179829,
  "xmax": 1.1573923979984634E7,
  "ymax": 6734098.45192847,
  "spatialReference": {
   "wkid": 102746,
   "latestWkid": 2283
  }
 },
 "fullExtent": {
  "xmin": 1.1571755902027255E7,
  "ymin": 6731532.094179829,
  "xmax": 1.1573923979984634E7,
  "ymax": 6734098.45192847,
  "spatialReference": {
   "wkid": 102746,
   "latestWkid": 2283
  }
 },
 "sortableFields": "",
 "bandCount": 3,
 "pixelType": "U8",
 "minValues": [
  0,
  0,
  0
 ],
 "maxValues": [
  254,
  253,
  246
 ],
 "meanValues": [
  234.62829138193203,
  231.03392268176964,
  216.23069915068447
 ],
 "stdvValues": [
  23.00819969373857,
  25.40966767785797,
  28.51404831789343
 ],
 "hasMultidimensions": false,
 "pixelSizeX": 0.20054370154275278,
 "pixelSizeY": 0.20054370154267662,
 "meanPixelSize": 0.06112584248190441,
 "datasetFormat": "SDR",
 "uncompressedSize": 415045101,
 "blockWidth": 128,
 "blockHeight": 128,
 "compressionType": "LZ77",
 "bandNames": [
  "Band_1",
  "Band_2",
  "Band_3"
 ],
 "allowCopy": true,
 "allowAnalysis": true,
 "itemAccess": false,
 "inspectionCapabilities": "",
 "minPixelSize": 0,
 "maxPixelSize": 0,
 "copyrightText": "",
 "serviceDataType": "esriImageServiceDataTypeRGB",
 "serviceSourceType": "esriImageServiceSourceTypeDataset",
 "objectIdField": "",
 "fields": [],
 "capabilities": "Image,Metadata,Mensuration",
 "defaultMosaicMethod": "Center",
 "allowedMosaicMethods": "",
 "sortField": "",
 "sortValue": null,
 "sortAscending": true,
 "mosaicOperator": "First",
 "defaultCompressionQuality": 75,
 "defaultResamplingMethod": "Bilinear",
 "maxImageHeight": 4100,
 "maxImageWidth": 15000,
 "allowRasterFunction": true,
 "rasterFunctionInfos": [
  {
   "name": "None",
   "description": "",
   "help": ""
  }
 ],
 "rasterTypeInfos": [
  {
   "name": "Raster Dataset",
   "description": "Supports all ArcGIS Raster Datasets",
   "help": ""
  }
 ],
 "mensurationCapabilities": "Basic",
 "hasHistograms": true,
 "hasColormap": false,
 "hasRasterAttributeTable": false,
 "minScale": 0,
 "maxScale": 0,
 "exportTilesAllowed": false,
 "supportsStatistics": false,
 "supportsAdvancedQueries": false,
 "editFieldsInfo": null,
 "ownershipBasedAccessControlForRasters": null,
 "allowComputeTiePoints": false,
 "useStandardizedQueries": true,
 "advancedQueryCapabilities": {
  "useStandardizedQueries": true,
  "supportsStatistics": false,
  "supportsOrderBy": false,
  "supportsDistinct": false,
  "supportsPagination": false
 },
 "spatialReference": {
  "wkid": 102746,
  "latestWkid": 2283
 }
}
